BEGIN:VCALENDAR
VERSION:2.0
PRODID:-//jEvents 2.0 for Joomla//EN
CALSCALE:GREGORIAN
METHOD:PUBLISH
BEGIN:VTIMEZONE
TZID:Europe/London
BEGIN:STANDARD
DTSTART:20241027T010000
RDATE:20250330T020000
TZOFFSETFROM:+0100
TZOFFSETTO:+0000
TZNAME:Europe/London GMT
END:STANDARD
BEGIN:STANDARD
DTSTART:20251026T010000
RDATE:20260329T020000
TZOFFSETFROM:+0100
TZOFFSETTO:+0000
TZNAME:Europe/London GMT
END:STANDARD
BEGIN:DAYLIGHT
DTSTART:20240620T164600
RDATE:20241027T010000
TZOFFSETFROM:+0000
TZOFFSETTO:+0100
TZNAME:Europe/London BST
END:DAYLIGHT
BEGIN:DAYLIGHT
DTSTART:20250330T020000
RDATE:20251026T010000
TZOFFSETFROM:+0000
TZOFFSETTO:+0100
TZNAME:Europe/London BST
END:DAYLIGHT
END:VTIMEZONE
BEGIN:VEVENT
UID:19716e1d4f3af8cff0cf0ec01bd24ed6
CATEGORIES:Events
CREATED:20250619T113829
SUMMARY:Spitfire flypast
LOCATION:Priory Gardens
DESCRIPTION:<p><a href="https://www.marlboroughfestival.com/spitfire-flypast">https://w
 ww.marlboroughfestival.com/spitfire-flypast</a></p>
DTSTAMP:20260420T141900
DTSTART;TZID=Europe/London:20250621T164600
SEQUENCE:0
TRANSP:OPAQUE
END:VEVENT
END:VCALENDAR