BEGIN:VCALENDAR
VERSION:2.0
PRODID:-//jEvents 2.0 for Joomla//EN
CALSCALE:GREGORIAN
METHOD:PUBLISH
BEGIN:VTIMEZONE
TZID:Europe/London
BEGIN:STANDARD
DTSTART:20241027T010000
RDATE:20250330T020000
TZOFFSETFROM:+0100
TZOFFSETTO:+0000
TZNAME:Europe/London GMT
END:STANDARD
BEGIN:STANDARD
DTSTART:20251026T010000
RDATE:20260329T020000
TZOFFSETFROM:+0100
TZOFFSETTO:+0000
TZNAME:Europe/London GMT
END:STANDARD
BEGIN:DAYLIGHT
DTSTART:20240926T190000
RDATE:20241027T010000
TZOFFSETFROM:+0000
TZOFFSETTO:+0100
TZNAME:Europe/London BST
END:DAYLIGHT
BEGIN:DAYLIGHT
DTSTART:20250330T020000
RDATE:20251026T010000
TZOFFSETFROM:+0000
TZOFFSETTO:+0100
TZNAME:Europe/London BST
END:DAYLIGHT
END:VTIMEZONE
BEGIN:VEVENT
UID:e4558dd27813f3e67e67ebaa2ff86f3b
CATEGORIES:Events
CREATED:20250722T152453
SUMMARY:An evening of ghost stories
LOCATION:The Merchant's House
DESCRIPTION:https://themerchantshouse.co.uk/event/an-evening-of-ghost-stories-by-m-r-ja
 mes-a-one-man-performance-by-toby-burchell/ (https://themerchantshouse.co.u
 k/event/an-evening-of-ghost-stories-by-m-r-james-a-one-man-performance-by-t
 oby-burchell/)\nAn Evening of Ghost Stories by M.R. James – A one-man perfo
 rmance by Toby BurchellSeptember 26 @ 7:00 pm - 9:00 pm\nIn this one-man pe
 rformance, Toby Burchell performs two chilling tales by the finest writer o
 f the ghost story genre, M. R. James. Originally narrated by James himself 
 as an entertainment for friends, these are the perfect traditional ghost st
 ories.\nThis is a candlelit performance taking place in The Merchant’s Hous
 e, Marlborough and will begin at 7pm on Friday, September 26th.\n
X-ALT-DESC;FMTTYPE=text/html:<p><a href="https://themerchantshouse.co.uk/event/an-evening-of-ghost-stori
 es-by-m-r-james-a-one-man-performance-by-toby-burchell/">https://themerchan
 tshouse.co.uk/event/an-evening-of-ghost-stories-by-m-r-james-a-one-man-perf
 ormance-by-toby-burchell/</a></p><h1 class="tribe-events-single-event-title
 " style="font-family: 'DM Serif Display', sans-serif; font-weight: bold; li
 ne-height: 1.38; color: #07593c; font-size: 65px; margin: 0px; padding: 0px
 ; text-transform: none; font-style: normal; letter-spacing: normal; orphans
 : 2; text-align: start; text-indent: 0px; widows: 2; word-spacing: 0px; whi
 te-space: normal; background-color: #ffffff;"><span style="font-size: 14pt;
 ">An Evening of Ghost Stories by M.R. James – A one-man performance by Toby
  Burchell</span></h1><div class="tribe-events-schedule tribe-clearfix" styl
 e="display: flex; margin: 24px 0px 32px; background-color: #ffffff; border:
  0px; color: #333333; font-family: Poppins, sans-serif; font-size: 16px; fo
 nt-style: normal; font-weight: 400; letter-spacing: normal; orphans: 2; tex
 t-align: start; text-indent: 0px; text-transform: none; widows: 2; word-spa
 cing: 0px; white-space: normal;"><h2 style="font-family: 'DM Serif Display'
 , sans-serif; font-weight: 400; line-height: 1.62; color: #07593c; font-siz
 e: 38px; margin-bottom: 0px; margin-right: 8px; width: auto; text-transform
 : none; margin-top: 0px;"><span style="font-size: 14pt;"><span class="tribe
 -event-date-start">September 26 @ 7:00 pm</span>&nbsp;-&nbsp;<span class="t
 ribe-event-time">9:00 pm</span></span></h2><span class="tribe-events-cost" 
 style="margin: 0px 8px; color: #141827; font-family: 'Helvetica Neue', Helv
 etica, -apple-system, BlinkMacSystemFont, Roboto, Arial, sans-serif; font-w
 eight: bold; text-transform: uppercase; font-size: 16px; line-height: 1.62;
 "><br /></span></div><div id="post-8175" class="post-8175 tribe_events type
 -tribe_events status-publish has-post-thumbnail hentry tribe_events_cat-mer
 chants-house-events cat_merchants-house-events" style="display: flex; overf
 low: hidden; position: relative; color: #333333; font-family: Poppins, sans
 -serif; font-size: 16px; font-style: normal; font-weight: 400; letter-spaci
 ng: normal; orphans: 2; text-align: start; text-indent: 0px; text-transform
 : none; widows: 2; word-spacing: 0px; white-space: normal; background-color
 : #ffffff;"><div class="tribe-events-single-event-description tribe-events-
 content" style="color: #141827; font-family: 'Helvetica Neue', Helvetica, -
 apple-system, BlinkMacSystemFont, Roboto, Arial, sans-serif; width: 1008px;
 "><p style="margin-bottom: 16px; font-size: 18px; line-height: 1.5; text-al
 ign: left;">In this one-man performance, Toby Burchell performs two chillin
 g tales by the finest writer of the ghost story genre, M. R. James. Origina
 lly narrated by James himself as an entertainment for friends, these are th
 e perfect traditional ghost stories.</p><p class="Default" style="margin-bo
 ttom: 28px; font-size: 18px; line-height: 1.5; text-align: left;"><span sty
 le="font-size: 11.5pt;">This is a candlelit performance taking place in The
  Merchant’s House, Marlborough<b style="font-weight: bolder;">&nbsp;</b>and
  will begin at 7pm on Friday, September 26<sup style="font-size: 11.5px; li
 ne-height: 0; position: relative; vertical-align: baseline; top: -0.5em;">t
 h</sup>.</span></p></div></div>
DTSTAMP:20260425T141749
DTSTART;TZID=Europe/London:20250927T190000
DTEND;TZID=Europe/London:20250927T210000
SEQUENCE:0
TRANSP:OPAQUE
END:VEVENT
END:VCALENDAR