BEGIN:VCALENDAR
VERSION:2.0
PRODID:-//jEvents 2.0 for Joomla//EN
CALSCALE:GREGORIAN
METHOD:PUBLISH
BEGIN:VTIMEZONE
TZID:Europe/London
BEGIN:STANDARD
DTSTART:20251026T010000
RDATE:20260329T020000
TZOFFSETFROM:+0100
TZOFFSETTO:+0000
TZNAME:Europe/London GMT
END:STANDARD
BEGIN:DAYLIGHT
DTSTART:20250415T080000
RDATE:20251026T010000
TZOFFSETFROM:+0000
TZOFFSETTO:+0100
TZNAME:Europe/London BST
END:DAYLIGHT
END:VTIMEZONE
BEGIN:VEVENT
UID:eabb80c49966de18c6ee5f0ca077ef42
CATEGORIES:Events
CREATED:20260304T122314
SUMMARY:Cemetery Extension Consultation - Voting Day
LOCATION:Marlborough Town Hall
DESCRIPTION:
DTSTAMP:20260420T201811
DTSTART;TZID=Europe/London:20260416T080000
DTEND;TZID=Europe/London:20260416T200000
SEQUENCE:0
TRANSP:OPAQUE
END:VEVENT
END:VCALENDAR