BEGIN:VCALENDAR
VERSION:2.0
PRODID:-//jEvents 2.0 for Joomla//EN
CALSCALE:GREGORIAN
METHOD:PUBLISH
BEGIN:VTIMEZONE
TZID:Europe/London
BEGIN:STANDARD
DTSTART:20241220T120000
RDATE:20250330T020000
TZOFFSETFROM:+0100
TZOFFSETTO:+0000
TZNAME:Europe/London GMT
END:STANDARD
BEGIN:STANDARD
DTSTART:20251026T010000
RDATE:20260329T020000
TZOFFSETFROM:+0100
TZOFFSETTO:+0000
TZNAME:Europe/London GMT
END:STANDARD
BEGIN:DAYLIGHT
DTSTART:20250330T020000
RDATE:20251026T010000
TZOFFSETFROM:+0000
TZOFFSETTO:+0100
TZNAME:Europe/London BST
END:DAYLIGHT
END:VTIMEZONE
BEGIN:VEVENT
UID:4fc243472023dc77a6886badfa9a2cbb
CATEGORIES:Events
CREATED:20251218T090815
SUMMARY:Tractors n Tinsel run
DESCRIPTION:<p><a href="https://www.facebook.com/DevizesYoungFarmers/posts/pfbid02xzpx4
 aYRzFKCQsEW9HWv6AspmffzZrgysStphA97ZPARVrWY8Gib9GtSSp8PH6kzl">https://www.f
 acebook.com/DevizesYoungFarmers/posts/pfbid02xzpx4aYRzFKCQsEW9HWv6AspmffzZr
 gysStphA97ZPARVrWY8Gib9GtSSp8PH6kzl</a></p><p>Expected in Marlborough aroun
 d midday</p>
DTSTAMP:20260425T175556
DTSTART;TZID=Europe/London:20251221T120000
DTEND;TZID=Europe/London:20251221T130000
SEQUENCE:0
TRANSP:OPAQUE
END:VEVENT
END:VCALENDAR