BEGIN:VCALENDAR
VERSION:2.0
PRODID:-//jEvents 2.0 for Joomla//EN
CALSCALE:GREGORIAN
METHOD:PUBLISH
BEGIN:VTIMEZONE
TZID:Europe/London
BEGIN:STANDARD
DTSTART:20241213T143000
RDATE:20250330T020000
TZOFFSETFROM:+0100
TZOFFSETTO:+0000
TZNAME:Europe/London GMT
END:STANDARD
BEGIN:STANDARD
DTSTART:20251026T010000
RDATE:20260329T020000
TZOFFSETFROM:+0100
TZOFFSETTO:+0000
TZNAME:Europe/London GMT
END:STANDARD
BEGIN:DAYLIGHT
DTSTART:20250330T020000
RDATE:20251026T010000
TZOFFSETFROM:+0000
TZOFFSETTO:+0100
TZNAME:Europe/London BST
END:DAYLIGHT
END:VTIMEZONE
BEGIN:VEVENT
UID:01cd326ba9e62ae25ccd78842e00ddcb
CATEGORIES:Events
CREATED:20251127T123837
SUMMARY:Christmas music with Phoenix Brass Band
LOCATION:Marlborough Town Hall
DESCRIPTION:<p>Free entry by ticket from band members or call 01672 841315</p><p>Light 
 refreshments available</p><p>Raffle and retiring collection</p>
CONTACT:01672841315
DTSTAMP:20260425T175515
DTSTART;TZID=Europe/London:20251214T143000
SEQUENCE:0
TRANSP:OPAQUE
END:VEVENT
END:VCALENDAR