BEGIN:VCALENDAR
VERSION:2.0
PRODID:-//jEvents 2.0 for Joomla//EN
CALSCALE:GREGORIAN
METHOD:PUBLISH
BEGIN:VTIMEZONE
TZID:Europe/London
BEGIN:STANDARD
DTSTART:20241130T100000
RDATE:20250330T020000
TZOFFSETFROM:+0100
TZOFFSETTO:+0000
TZNAME:Europe/London GMT
END:STANDARD
BEGIN:STANDARD
DTSTART:20251026T010000
RDATE:20260329T020000
TZOFFSETFROM:+0100
TZOFFSETTO:+0000
TZNAME:Europe/London GMT
END:STANDARD
BEGIN:DAYLIGHT
DTSTART:20250330T020000
RDATE:20251026T010000
TZOFFSETFROM:+0000
TZOFFSETTO:+0100
TZNAME:Europe/London BST
END:DAYLIGHT
END:VTIMEZONE
BEGIN:VEVENT
UID:ac4e0622d183787804f881338def11d0
CATEGORIES:Events
CREATED:19700101T010000
SUMMARY:Monday Market at St Peters
LOCATION:St Peter's Church\, Marlborough High Street
DESCRIPTION:https://stpetersmarlborough.org.uk/events (https://stpetersmarlborough.org.
 uk/events)\nMarkets every Monday in December, 10am-3pm\n
X-ALT-DESC;FMTTYPE=text/html:<p><a href="https://stpetersmarlborough.org.uk/events">https://stpetersmarl
 borough.org.uk/events</a></p><p>Markets every Monday in December, 10am-3pm<
 /p>
DTSTAMP:20260425T175026
DTSTART;TZID=Europe/London:20251201T100000
DTEND;TZID=Europe/London:20251201T150000
SEQUENCE:0
RRULE:FREQ=WEEKLY;UNTIL=20251223T000000Z;INTERVAL=1;BYDAY=MO
TRANSP:OPAQUE
END:VEVENT
END:VCALENDAR