BEGIN:VCALENDAR
VERSION:2.0
PRODID:-//jEvents 2.0 for Joomla//EN
CALSCALE:GREGORIAN
METHOD:PUBLISH
BEGIN:VTIMEZONE
TZID:Europe/London
BEGIN:STANDARD
DTSTART:20241128T103000
RDATE:20250330T020000
TZOFFSETFROM:+0100
TZOFFSETTO:+0000
TZNAME:Europe/London GMT
END:STANDARD
BEGIN:STANDARD
DTSTART:20251026T010000
RDATE:20260329T020000
TZOFFSETFROM:+0100
TZOFFSETTO:+0000
TZNAME:Europe/London GMT
END:STANDARD
BEGIN:DAYLIGHT
DTSTART:20250330T020000
RDATE:20251026T010000
TZOFFSETFROM:+0000
TZOFFSETTO:+0100
TZNAME:Europe/London BST
END:DAYLIGHT
END:VTIMEZONE
BEGIN:VEVENT
UID:e18b6fe9ed88079555b0735dd024e871
CATEGORIES:Events
CREATED:20251126T124031
SUMMARY:The Big Town Christmas Giveaway 2025
LOCATION:St Mary's Church and Hall
DESCRIPTION:https://www.facebook.com/LoveMarlborough (https://www.facebook.com/LoveMarl
 borough)\n
X-ALT-DESC;FMTTYPE=text/html:<p><a href="https://www.facebook.com/LoveMarlborough">https://www.facebook.
 com/LoveMarlborough</a></p>
DTSTAMP:20260425T164913
DTSTART;TZID=Europe/London:20251129T103000
DTEND;TZID=Europe/London:20251129T150000
SEQUENCE:0
TRANSP:OPAQUE
END:VEVENT
END:VCALENDAR