BEGIN:VCALENDAR
VERSION:2.0
PRODID:-//jEvents 2.0 for Joomla//EN
CALSCALE:GREGORIAN
METHOD:PUBLISH
BEGIN:VTIMEZONE
TZID:Europe/London
BEGIN:STANDARD
DTSTART:20241206T190000
RDATE:20250330T020000
TZOFFSETFROM:+0100
TZOFFSETTO:+0000
TZNAME:Europe/London GMT
END:STANDARD
BEGIN:STANDARD
DTSTART:20251026T010000
RDATE:20260329T020000
TZOFFSETFROM:+0100
TZOFFSETTO:+0000
TZNAME:Europe/London GMT
END:STANDARD
BEGIN:DAYLIGHT
DTSTART:20250330T020000
RDATE:20251026T010000
TZOFFSETFROM:+0000
TZOFFSETTO:+0100
TZNAME:Europe/London BST
END:DAYLIGHT
END:VTIMEZONE
BEGIN:VEVENT
UID:7eb93ae3367dd70dc34ceab547bd41ea
CATEGORIES:Events
CREATED:20251118T144559
SUMMARY:Music at St Peters
DESCRIPTION:<p><a href="https://stpetersmarlborough.org.uk/event/brilliant-internationa
 l-musicians-series-jams-coleman-piano-and-colin-scobie-violin">https://stpe
 tersmarlborough.org.uk/event/brilliant-international-musicians-series-jams-
 coleman-piano-and-colin-scobie-violin</a></p>
DTSTAMP:20260425T175612
DTSTART;TZID=Europe/London:20251207T190000
SEQUENCE:0
TRANSP:OPAQUE
END:VEVENT
END:VCALENDAR