BEGIN:VCALENDAR
VERSION:2.0
PRODID:-//jEvents 2.0 for Joomla//EN
CALSCALE:GREGORIAN
METHOD:PUBLISH
BEGIN:VTIMEZONE
TZID:Europe/London
BEGIN:STANDARD
DTSTART:20241103T190000
RDATE:20250330T020000
TZOFFSETFROM:+0100
TZOFFSETTO:+0000
TZNAME:Europe/London GMT
END:STANDARD
BEGIN:STANDARD
DTSTART:20251026T010000
RDATE:20260329T020000
TZOFFSETFROM:+0100
TZOFFSETTO:+0000
TZNAME:Europe/London GMT
END:STANDARD
BEGIN:DAYLIGHT
DTSTART:20250330T020000
RDATE:20251026T010000
TZOFFSETFROM:+0000
TZOFFSETTO:+0100
TZNAME:Europe/London BST
END:DAYLIGHT
END:VTIMEZONE
BEGIN:VEVENT
UID:9568432eaf31e0b7ba15d5f5ee5d971d
CATEGORIES:Events
CREATED:20251103T111458
SUMMARY:Temporary road closure - A346 (part) Salisbury Hill to Cadley
DESCRIPTION:<p><span style="color: #1d103e; font-family: Geist, Helvetica, 'Helvetica N
 eue', sans-serif; font-size: 14px; font-style: normal; font-weight: 400; le
 tter-spacing: normal; orphans: 2; text-align: left; text-indent: 0px; text-
 transform: none; widows: 2; word-spacing: 0px; white-space: normal; backgro
 und-color: #ffffff; float: none;">A346 Salisbury Hill Road South East To Ca
 dley</span></p><p><a href="https://one.network/?GBTMI41569865">Causeway one
 .network</a></p>
DTSTAMP:20260425T165401
DTSTART;TZID=Europe/London:20251104T190000
DTEND;TZID=Europe/London:20251104T235900
SEQUENCE:0
TRANSP:OPAQUE
END:VEVENT
END:VCALENDAR