BEGIN:VCALENDAR
VERSION:2.0
PRODID:-//jEvents 2.0 for Joomla//EN
CALSCALE:GREGORIAN
METHOD:PUBLISH
BEGIN:VTIMEZONE
TZID:Europe/London
BEGIN:STANDARD
DTSTART:20241108T100000
RDATE:20250330T020000
TZOFFSETFROM:+0100
TZOFFSETTO:+0000
TZNAME:Europe/London GMT
END:STANDARD
BEGIN:STANDARD
DTSTART:20251026T010000
RDATE:20260329T020000
TZOFFSETFROM:+0100
TZOFFSETTO:+0000
TZNAME:Europe/London GMT
END:STANDARD
BEGIN:DAYLIGHT
DTSTART:20250330T020000
RDATE:20251026T010000
TZOFFSETFROM:+0000
TZOFFSETTO:+0100
TZNAME:Europe/London BST
END:DAYLIGHT
END:VTIMEZONE
BEGIN:VEVENT
UID:701947f88793428d752e97ec331f0cf9
CATEGORIES:Events
CREATED:20251103T102621
SUMMARY:Remembrance Sunday
DESCRIPTION:<p>The parade will form up in the High Street from 10, marching to New Road
  for the 2-minute silence and wreath laying at 11am</p><p>Roads closed 10-1
 1:30 for the safety of participants</p>
DTSTAMP:20260425T165351
DTSTART;TZID=Europe/London:20251109T100000
DTEND;TZID=Europe/London:20251109T233000
SEQUENCE:0
TRANSP:OPAQUE
END:VEVENT
END:VCALENDAR