BEGIN:VCALENDAR
VERSION:2.0
PRODID:-//jEvents 2.0 for Joomla//EN
CALSCALE:GREGORIAN
METHOD:PUBLISH
BEGIN:VTIMEZONE
TZID:Europe/London
BEGIN:STANDARD
DTSTART:20241127T160000
RDATE:20250330T020000
TZOFFSETFROM:+0100
TZOFFSETTO:+0000
TZNAME:Europe/London GMT
END:STANDARD
BEGIN:STANDARD
DTSTART:20251026T010000
RDATE:20260329T020000
TZOFFSETFROM:+0100
TZOFFSETTO:+0000
TZNAME:Europe/London GMT
END:STANDARD
BEGIN:DAYLIGHT
DTSTART:20250330T020000
RDATE:20251026T010000
TZOFFSETFROM:+0000
TZOFFSETTO:+0100
TZNAME:Europe/London BST
END:DAYLIGHT
END:VTIMEZONE
BEGIN:VEVENT
UID:92651add1df1e9eae32353a417a9cc15
CATEGORIES:Events
CREATED:20251008T112408
SUMMARY:Temporary Road Closure - A4 High Street & New Road (part), Kingsbury Street (part)
DESCRIPTION:https://one.network/?tm=GB145504719 (https://one.network/?tm=GB145504719)\n
X-ALT-DESC;FMTTYPE=text/html:<p><a href="https://one.network/?tm=GB145504719">https://one.network/?tm=GB
 145504719</a></p>
DTSTAMP:20260425T164956
DTSTART;TZID=Europe/London:20251128T160000
DTEND;TZID=Europe/London:20251128T210000
SEQUENCE:0
TRANSP:OPAQUE
END:VEVENT
END:VCALENDAR