BEGIN:VCALENDAR
VERSION:2.0
PRODID:-//jEvents 2.0 for Joomla//EN
CALSCALE:GREGORIAN
METHOD:PUBLISH
BEGIN:VTIMEZONE
TZID:Europe/London
BEGIN:STANDARD
DTSTART:20241101T193000
RDATE:20250330T020000
TZOFFSETFROM:+0100
TZOFFSETTO:+0000
TZNAME:Europe/London GMT
END:STANDARD
BEGIN:STANDARD
DTSTART:20251026T010000
RDATE:20260329T020000
TZOFFSETFROM:+0100
TZOFFSETTO:+0000
TZNAME:Europe/London GMT
END:STANDARD
BEGIN:DAYLIGHT
DTSTART:20250330T020000
RDATE:20251026T010000
TZOFFSETFROM:+0000
TZOFFSETTO:+0100
TZNAME:Europe/London BST
END:DAYLIGHT
END:VTIMEZONE
BEGIN:VEVENT
UID:e4d6cc2846f47f66c7bf80f305384952
CATEGORIES:Events
CREATED:20251001T094438
SUMMARY:Warren Lee piano recital
LOCATION:The Memorial Hall\, Marlborough College
DESCRIPTION:https://marlboroughconcertseries.org/concert-warren-lee/ (https://marlborou
 ghconcertseries.org/concert-warren-lee/)\n
X-ALT-DESC;FMTTYPE=text/html:<p><a href="https://marlboroughconcertseries.org/concert-warren-lee/">https
 ://marlboroughconcertseries.org/concert-warren-lee/</a></p>
DTSTAMP:20260425T164949
DTSTART;TZID=Europe/London:20251102T193000
SEQUENCE:0
TRANSP:OPAQUE
END:VEVENT
END:VCALENDAR