BEGIN:VCALENDAR
VERSION:2.0
PRODID:-//jEvents 2.0 for Joomla//EN
CALSCALE:GREGORIAN
METHOD:PUBLISH
BEGIN:VTIMEZONE
TZID:Europe/London
BEGIN:STANDARD
DTSTART:20241128T000000
RDATE:20250330T020000
TZOFFSETFROM:+0100
TZOFFSETTO:+0000
TZNAME:Europe/London GMT
END:STANDARD
BEGIN:STANDARD
DTSTART:20251026T010000
RDATE:20260329T020000
TZOFFSETFROM:+0100
TZOFFSETTO:+0000
TZNAME:Europe/London GMT
END:STANDARD
BEGIN:DAYLIGHT
DTSTART:20250330T020000
RDATE:20251026T010000
TZOFFSETFROM:+0000
TZOFFSETTO:+0100
TZNAME:Europe/London BST
END:DAYLIGHT
END:VTIMEZONE
BEGIN:VEVENT
UID:f74bf4edbbff62177ebb880d5b1d2491
CATEGORIES:Events
CREATED:20250918T154010
SUMMARY:Storytime with Santa
LOCATION:The Merchant's House
DESCRIPTION:To book go to https://themerchantshouse.co.uk/event/storytime-with-santa/ (
 https://themerchantshouse.co.uk/event/storytime-with-santa/)\n
X-ALT-DESC;FMTTYPE=text/html:<p>To book go to&nbsp;<a href="https://themerchantshouse.co.uk/event/storyt
 ime-with-santa/">https://themerchantshouse.co.uk/event/storytime-with-santa
 /</a></p>
DTSTAMP:20260425T165030
DTSTART;TZID=Europe/London;VALUE=DATE:20251129
DTEND;TZID=Europe/London;VALUE=DATE:20251130
SEQUENCE:0
TRANSP:OPAQUE
END:VEVENT
END:VCALENDAR