BEGIN:VCALENDAR
VERSION:2.0
PRODID:-//jEvents 2.0 for Joomla//EN
CALSCALE:GREGORIAN
METHOD:PUBLISH
BEGIN:VTIMEZONE
TZID:Europe/London
BEGIN:STANDARD
DTSTART:20241027T010000
RDATE:20250330T020000
TZOFFSETFROM:+0100
TZOFFSETTO:+0000
TZNAME:Europe/London GMT
END:STANDARD
BEGIN:STANDARD
DTSTART:20251026T010000
RDATE:20260329T020000
TZOFFSETFROM:+0100
TZOFFSETTO:+0000
TZNAME:Europe/London GMT
END:STANDARD
BEGIN:DAYLIGHT
DTSTART:20241027T010000
RDATE:20241027T010000
TZOFFSETFROM:+0000
TZOFFSETTO:+0100
TZNAME:Europe/London BST
END:DAYLIGHT
BEGIN:DAYLIGHT
DTSTART:20250330T020000
RDATE:20251026T010000
TZOFFSETFROM:+0000
TZOFFSETTO:+0100
TZNAME:Europe/London BST
END:DAYLIGHT
END:VTIMEZONE
BEGIN:VEVENT
UID:f71b160ac3c4f643c4cf0798fb4fa41f
CATEGORIES:Events
CREATED:20250918T152250
SUMMARY:Stories & Staircases - special guided tours of The Merchant's House
DESCRIPTION:<p style="margin-bottom: 16px; font-size: 18px; line-height: 1.5; color: #1
 41827; font-family: 'Helvetica Neue', Helvetica, -apple-system, BlinkMacSys
 temFont, Roboto, Arial, sans-serif; font-style: normal; font-weight: 400; l
 etter-spacing: normal; orphans: 2; text-align: start; text-indent: 0px; tex
 t-transform: none; widows: 2; word-spacing: 0px; white-space: normal; backg
 round-color: #ffffff;">For over 300 years, this remarkable house has watche
 d over Marlborough’s High Street.&nbsp; Take this very special opportunity 
 to step inside…</p><p style="margin-bottom: 16px; font-size: 18px; line-hei
 ght: 1.5; color: #141827; font-family: 'Helvetica Neue', Helvetica, -apple-
 system, BlinkMacSystemFont, Roboto, Arial, sans-serif; font-style: normal; 
 font-weight: 400; letter-spacing: normal; orphans: 2; text-align: start; te
 xt-indent: 0px; text-transform: none; widows: 2; word-spacing: 0px; white-s
 pace: normal; background-color: #ffffff;" data-start="223" data-end="621">J
 oin <span style="text-decoration: underline;"><a href="https://themerchants
 house.co.uk/events/list/page/2/">The Merchant's House</a></span> for a&nbsp
 ;<strong style="font-weight: bolder;" data-start="237" data-end="266">guide
 d tour like no other</strong>. Learn more about this extraordinary building
 , explore mysterious corners and curious spaces that don’t quite add up—clu
 es to secrets long forgotten. Discover the story behind the protective iron
  and witches’ marks carved into doorways, windows, and fireplaces. And list
 en closely to tales of lingering spirits including that of our mysterious&n
 bsp;<strong style="font-weight: bolder;" data-start="561" data-end="578">La
 dy in Green</strong>, who may still wander these rooms today.</p><p>&nbsp;<
 /p>
DTSTAMP:20260425T154643
DTSTART;TZID=Europe/London;VALUE=DATE:20251028
DTEND;TZID=Europe/London;VALUE=DATE:20251101
SEQUENCE:0
TRANSP:OPAQUE
END:VEVENT
END:VCALENDAR