BEGIN:VCALENDAR
VERSION:2.0
PRODID:-//jEvents 2.0 for Joomla//EN
CALSCALE:GREGORIAN
METHOD:PUBLISH
BEGIN:VTIMEZONE
TZID:Europe/London
BEGIN:STANDARD
DTSTART:20241027T010000
RDATE:20250330T020000
TZOFFSETFROM:+0100
TZOFFSETTO:+0000
TZNAME:Europe/London GMT
END:STANDARD
BEGIN:STANDARD
DTSTART:20251026T010000
RDATE:20260329T020000
TZOFFSETFROM:+0100
TZOFFSETTO:+0000
TZNAME:Europe/London GMT
END:STANDARD
BEGIN:DAYLIGHT
DTSTART:20240904T090000
RDATE:20241027T010000
TZOFFSETFROM:+0000
TZOFFSETTO:+0100
TZNAME:Europe/London BST
END:DAYLIGHT
BEGIN:DAYLIGHT
DTSTART:20250330T020000
RDATE:20251026T010000
TZOFFSETFROM:+0000
TZOFFSETTO:+0100
TZNAME:Europe/London BST
END:DAYLIGHT
END:VTIMEZONE
BEGIN:VEVENT
UID:a147ab095ffe9002de4d677d2ec2d74c
CATEGORIES:Events
CREATED:20250901T124326
SUMMARY:Temporary road closure - The Parade (part)
DESCRIPTION:Section 14 of the Road Traffic Regulation Act 1984\nUrgent Closure of: The 
 Parade (Part), Marlborough\n\nWILTSHIRE COUNCIL HEREBY GIVE NOTICE that on 
 05 September 2025, the following length of road shall be closed to all traf
 fic in the interests of public safety to enable Wiltshire Council to carry 
 out hand patching.\n\nThe Parade (Part), Marlborough; from its junction wit
 h A4 in a southerly direction for approximately 20 metres.\n\nAlternative r
 oute: via The Parade (unaffected length), A4 and vice versa.\n\nThe closure
  and diversion route will be clearly indicated by traffic signs. Access wil
 l be maintained for residents and businesses where possible, although delay
 s are likely due to the nature of the works.\n\nThese works will commence o
 n 05 September 2025 and are anticipated to be required for 7 hours between 
 the hours of 09:00 and 16:00. This Notice will have a maximum duration of 5
  days.\n\nFor further information regarding these works please contact Wilt
 shire Council 0300 456 0105\nThe closure can also be found on one.network h
 ere:   (https://eur03.safelinks.protection.outlook.com/?url=https%3A%2F%2Fo
 ne.network%2F%3Ftm%3DGB144177849&amp;data=05%7C02%7Cenquiries%40marlborough
 -tc.gov.uk%7Cf7ac07f5365b4022ffd108dde94a5382%7C2ab3079ac4904e148692e65c6d1
 37229%7C0%7C0%7C638923227615371886%7CUnknown%7CTWFpbGZsb3d8eyJFbXB0eU1hcGki
 OnRydWUsIlYiOiIwLjAuMDAwMCIsIlAiOiJXaW4zMiIsIkFOIjoiTWFpbCIsIldUIjoyfQ%3D%3
 D%7C0%7C%7C%7C&amp;sdata=ZuJWvX1DDSYJrcnknX92gNfCZ%2FHPTpWeZeD4NvN4IvM%3D&a
 mp;reserved=0)https://one.network/?tm=GB144177849 (https://one.network/?tm=
 GB144177849)\n
X-ALT-DESC;FMTTYPE=text/html:<p>Section 14 of the Road Traffic Regulation Act 1984<br />Urgent Closure o
 f: The Parade (Part), Marlborough</p><p><br />WILTSHIRE COUNCIL HEREBY GIVE
  NOTICE that on 05 September 2025, the following length of road shall be cl
 osed&nbsp;to all traffic in the interests of public safety to enable Wiltsh
 ire Council to carry out hand patching.</p><p><br />The Parade (Part), Marl
 borough; from its junction with A4 in a southerly direction for approximate
 ly 20 metres.</p><p><br />Alternative route: via The Parade (unaffected len
 gth), A4 and vice versa.</p><p><br />The closure and diversion route will b
 e clearly indicated by traffic signs. Access will be maintained for&nbsp;re
 sidents and businesses where possible, although delays are likely due to th
 e nature of the works.</p><p><br />These works will commence on 05 Septembe
 r 2025 and are anticipated to be required for 7 hours between the&nbsp;hour
 s of 09:00 and 16:00. This Notice will have a maximum duration of 5 days.</
 p><p><br />For further information regarding these works please contact Wil
 tshire Council 0300 456 0105</p><p>The closure&nbsp;can also be found on on
 e.network here:&nbsp; <span class="highlight-yellow"><a href="https://eur03
 .safelinks.protection.outlook.com/?url=https%3A%2F%2Fone.network%2F%3Ftm%3D
 GB144177849&amp;data=05%7C02%7Cenquiries%40marlborough-tc.gov.uk%7Cf7ac07f5
 365b4022ffd108dde94a5382%7C2ab3079ac4904e148692e65c6d137229%7C0%7C0%7C63892
 3227615371886%7CUnknown%7CTWFpbGZsb3d8eyJFbXB0eU1hcGkiOnRydWUsIlYiOiIwLjAuM
 DAwMCIsIlAiOiJXaW4zMiIsIkFOIjoiTWFpbCIsIldUIjoyfQ%3D%3D%7C0%7C%7C%7C&amp;sd
 ata=ZuJWvX1DDSYJrcnknX92gNfCZ%2FHPTpWeZeD4NvN4IvM%3D&amp;reserved=0"></a><a
  href="https://one.network/?tm=GB144177849">https://one.network/?tm=GB14417
 7849</a></span></p>
DTSTAMP:20260425T141934
DTSTART;TZID=Europe/London:20250905T090000
DTEND;TZID=Europe/London:20250905T160000
SEQUENCE:0
TRANSP:OPAQUE
END:VEVENT
END:VCALENDAR