BEGIN:VCALENDAR
VERSION:2.0
PRODID:-//jEvents 2.0 for Joomla//EN
CALSCALE:GREGORIAN
METHOD:PUBLISH
BEGIN:VTIMEZONE
TZID:Europe/London
BEGIN:STANDARD
DTSTART:20241121T100000
RDATE:20250330T020000
TZOFFSETFROM:+0100
TZOFFSETTO:+0000
TZNAME:Europe/London GMT
END:STANDARD
BEGIN:STANDARD
DTSTART:20251026T010000
RDATE:20260329T020000
TZOFFSETFROM:+0100
TZOFFSETTO:+0000
TZNAME:Europe/London GMT
END:STANDARD
BEGIN:DAYLIGHT
DTSTART:20250330T020000
RDATE:20251026T010000
TZOFFSETFROM:+0000
TZOFFSETTO:+0100
TZNAME:Europe/London BST
END:DAYLIGHT
END:VTIMEZONE
BEGIN:VEVENT
UID:838e083023d9e9dcaa84f9b702f7bb75
CATEGORIES:Events
CREATED:20250821T130327
SUMMARY:Mynt Image Craft & Gift Fair
LOCATION:Marlborough Town Hall
DESCRIPTION:Stallholder enquiries https://www.myntimage.co.uk/events/marlborough/ (http
 s://www.myntimage.co.uk/events/marlborough/) \n
X-ALT-DESC;FMTTYPE=text/html:<p>Stallholder enquiries&nbsp;<a href="https://www.myntimage.co.uk/events/m
 arlborough/">https://www.myntimage.co.uk/events/marlborough/</a>&nbsp;</p>
DTSTAMP:20260425T164955
DTSTART;TZID=Europe/London:20251122T100000
DTEND;TZID=Europe/London:20251122T160000
SEQUENCE:0
TRANSP:OPAQUE
END:VEVENT
END:VCALENDAR