BEGIN:VCALENDAR
VERSION:2.0
PRODID:-//jEvents 2.0 for Joomla//EN
CALSCALE:GREGORIAN
METHOD:PUBLISH
BEGIN:VTIMEZONE
TZID:Europe/London
BEGIN:STANDARD
DTSTART:20241215T200000
RDATE:20250330T020000
TZOFFSETFROM:+0100
TZOFFSETTO:+0000
TZNAME:Europe/London GMT
END:STANDARD
BEGIN:STANDARD
DTSTART:20251026T010000
RDATE:20260329T020000
TZOFFSETFROM:+0100
TZOFFSETTO:+0000
TZNAME:Europe/London GMT
END:STANDARD
BEGIN:DAYLIGHT
DTSTART:20250330T020000
RDATE:20251026T010000
TZOFFSETFROM:+0000
TZOFFSETTO:+0100
TZNAME:Europe/London BST
END:DAYLIGHT
END:VTIMEZONE
BEGIN:VEVENT
UID:a374764d9116bef1df10e0258a2d1c0b
CATEGORIES:Events
CREATED:20250707T102553
SUMMARY:St Agnes Fountain
DESCRIPTION:St Agnes Fountain on Tuesday 16th December at Marlborough Town Hall at 8pm 
 – Marlborough Folk Roots (https://www.marlboroughfolk-roots.co.uk/st-agnes-
 fountain-on-tuesday-16th-december-at-marlborough-town-hall-at-8pm/)\n
X-ALT-DESC;FMTTYPE=text/html:<p><span style="text-decoration: underline;"><a href="https://www.marlborou
 ghfolk-roots.co.uk/st-agnes-fountain-on-tuesday-16th-december-at-marlboroug
 h-town-hall-at-8pm/">St Agnes Fountain on Tuesday 16th December at Marlboro
 ugh Town Hall at 8pm – Marlborough Folk Roots</a></span></p>
DTSTAMP:20260425T175210
DTSTART;TZID=Europe/London:20251216T200000
SEQUENCE:0
TRANSP:OPAQUE
END:VEVENT
END:VCALENDAR