BEGIN:VCALENDAR
VERSION:2.0
PRODID:-//jEvents 2.0 for Joomla//EN
CALSCALE:GREGORIAN
METHOD:PUBLISH
BEGIN:VTIMEZONE
TZID:Europe/London
BEGIN:STANDARD
DTSTART:20240108T063000
RDATE:20240331T020000
TZOFFSETFROM:+0100
TZOFFSETTO:+0000
TZNAME:Europe/London GMT
END:STANDARD
BEGIN:STANDARD
DTSTART:20241027T010000
RDATE:20250330T020000
TZOFFSETFROM:+0100
TZOFFSETTO:+0000
TZNAME:Europe/London GMT
END:STANDARD
BEGIN:STANDARD
DTSTART:20251026T010000
RDATE:20260329T020000
TZOFFSETFROM:+0100
TZOFFSETTO:+0000
TZNAME:Europe/London GMT
END:STANDARD
BEGIN:DAYLIGHT
DTSTART:20240331T020000
RDATE:20241027T010000
TZOFFSETFROM:+0000
TZOFFSETTO:+0100
TZNAME:Europe/London BST
END:DAYLIGHT
BEGIN:DAYLIGHT
DTSTART:20250330T020000
RDATE:20251026T010000
TZOFFSETFROM:+0000
TZOFFSETTO:+0100
TZNAME:Europe/London BST
END:DAYLIGHT
END:VTIMEZONE
BEGIN:VEVENT
UID:11c6c567adf6485325cac84e8b41b3b1
CATEGORIES:Events
CREATED:20241107T121859
SUMMARY:Temporary Road Closure UC (part), Preshute
DESCRIPTION:<p>The closure can also be found on one.network here:&nbsp; <a href="https:
 //eur03.safelinks.protection.outlook.com/?url=https%3A%2F%2Fone.network%2F%
 3Ftm%3D140637445&amp;data=05%7C02%7Cenquiries%40marlborough-tc.gov.uk%7Cc32
 dc1cbab154e60c65908dcf9bbf809%7C2ab3079ac4904e148692e65c6d137229%7C0%7C0%7C
 638659832918349177%7CUnknown%7CTWFpbGZsb3d8eyJWIjoiMC4wLjAwMDAiLCJQIjoiV2lu
 MzIiLCJBTiI6Ik1haWwiLCJXVCI6Mn0%3D%7C0%7C%7C%7C&amp;sdata=vQB7RGmwiaDImfvFU
 I9HZclco%2BsehwL25MAqi2QiWE8%3D&amp;reserved=0"></a><a href="https://one.ne
 twork/?tm=140637445">https://one.network/?tm=140637445</a></p><p>&nbsp;</p>
 <p>&nbsp;</p><p>Wiltshire Council<br />Section 14(1) of the Road Traffic Re
 gulation Act 1984<br />Temporary Closure of: UC 156801 (Part), Preshute (Re
 f: TTRO 9946)</p><p><br />Notice is hereby given that the Wiltshire Council
  has made an Order to close temporarily to&nbsp;all traffic:</p><p><br />UC
  156801 (Part), Preshute; from its junction with A4 for a distance of appro
 ximately 270m&nbsp;in a southerly direction.</p><p><br />To enable: Openrea
 ch to allow for safe access to cover and manholes.</p><p>Alternative route:
  via Manton Road – High Street – Bridge Street – A4 and vice versa.</p><p>T
 he closure and diversion route will be clearly indicated by traffic signs.<
 /p><p>This Order will come into operation on 08 January 2025 and the closur
 e will be required&nbsp;between the hours of 09:30 and 15:30 for 1 day. It 
 is anticipated that the works will take the&nbsp;stated duration to complet
 e depending upon weather conditions. Access will be maintained&nbsp;for res
 idents and businesses where possible, although delays are likely due to the
  nature of&nbsp;the works. The Order will have a maximum duration of 18 mon
 ths.&nbsp;</p><p><br />For further information please contact Openreach on 
 0800 0282229.</p><p>Sustainable Transport Group, County Hall, Bythesea Road
 , Trowbridge BA14 8JN<br />02 January 2025</p>
DTSTAMP:20260419T195819
DTSTART;TZID=Europe/London:20250108T063000
DTEND;TZID=Europe/London:20250108T153000
SEQUENCE:0
TRANSP:OPAQUE
END:VEVENT
END:VCALENDAR